BEGIN:VCALENDAR
VERSION:2.0
PRODID:-//JGV Würzburg u.U. e.V. - ECPv6.15.20//NONSGML v1.0//EN
CALSCALE:GREGORIAN
METHOD:PUBLISH
X-WR-CALNAME:JGV Würzburg u.U. e.V.
X-ORIGINAL-URL:https://jgvwuerzburg.de
X-WR-CALDESC:Veranstaltungen für JGV Würzburg u.U. e.V.
REFRESH-INTERVAL;VALUE=DURATION:PT1H
X-Robots-Tag:noindex
X-PUBLISHED-TTL:PT1H
BEGIN:VTIMEZONE
TZID:Europe/Berlin
BEGIN:DAYLIGHT
TZOFFSETFROM:+0100
TZOFFSETTO:+0200
TZNAME:CEST
DTSTART:20250330T010000
END:DAYLIGHT
BEGIN:STANDARD
TZOFFSETFROM:+0200
TZOFFSETTO:+0100
TZNAME:CET
DTSTART:20251026T010000
END:STANDARD
BEGIN:DAYLIGHT
TZOFFSETFROM:+0100
TZOFFSETTO:+0200
TZNAME:CEST
DTSTART:20260329T010000
END:DAYLIGHT
BEGIN:STANDARD
TZOFFSETFROM:+0200
TZOFFSETTO:+0100
TZNAME:CET
DTSTART:20261025T010000
END:STANDARD
BEGIN:DAYLIGHT
TZOFFSETFROM:+0100
TZOFFSETTO:+0200
TZNAME:CEST
DTSTART:20270328T010000
END:DAYLIGHT
BEGIN:STANDARD
TZOFFSETFROM:+0200
TZOFFSETTO:+0100
TZNAME:CET
DTSTART:20271031T010000
END:STANDARD
END:VTIMEZONE
BEGIN:VEVENT
DTSTART;TZID=Europe/Berlin:20260131T083000
DTEND;TZID=Europe/Berlin:20260131T120000
DTSTAMP:20260423T104844
CREATED:20260104T211721Z
LAST-MODIFIED:20260104T212016Z
UID:1173-1769848200-1769860800@jgvwuerzburg.de
SUMMARY:Bringtreue I
DESCRIPTION:Nenngeld 30 Euro; Nichtmitglieder 40€\nFuchs ist vom Führer mitzubringen\nMeldeschluss: 15.01.2026
URL:https://jgvwuerzburg.de/event/bringtreue-i/
LOCATION:Hundehof\, Rottenbauer Grund 12\, Würzburg\, 97084\, Deutschland
CATEGORIES:Prüfungen
END:VEVENT
END:VCALENDAR